BEGIN:VCALENDAR
VERSION:2.0
PRODID:-//pretalx//pretalx.installfest.cz//installfest-2026-2025//HVMBSC
BEGIN:VTIMEZONE
TZID:CET
BEGIN:STANDARD
DTSTART:20001029T040000
RRULE:FREQ=YEARLY;BYDAY=-1SU;BYMONTH=10
TZNAME:CET
TZOFFSETFROM:+0200
TZOFFSETTO:+0100
END:STANDARD
BEGIN:DAYLIGHT
DTSTART:20000326T030000
RRULE:FREQ=YEARLY;BYDAY=-1SU;BYMONTH=3
TZNAME:CEST
TZOFFSETFROM:+0100
TZOFFSETTO:+0200
END:DAYLIGHT
END:VTIMEZONE
BEGIN:VEVENT
UID:pretalx-installfest-2026-2025-JVERKN@pretalx.installfest.cz
DTSTART;TZID=CET:20260328T110000
DTEND;TZID=CET:20260328T112500
DESCRIPTION:Digitální suverenita je v Evropě stále důležitějším t
 ématem v oblasti otevřeného softwaru\, ochrany dat a důvěry v digitá
 lní infrastrukturu. Přednáška ukáže openSUSE jako globální open so
 urce projekt s pevnými evropskými kořeny\, který klade důraz na trans
 parentnost a jasný přehled o tom\, kde jsou provozovány jeho služby a 
 kde jsou uložena data. Místo obecných prohlášení se zaměří na kon
 krétní kroky projektu\, jako jsou změny v licenčních a právních dok
 umentech a otevřená dokumentace infrastruktury.
DTSTAMP:20260421T105841Z
LOCATION:Track I
SUMMARY:Digitalní Suverenita a openSUSE - Lubos Kocman
URL:https://pretalx.installfest.cz/installfest-2026-2025/talk/JVERKN/
END:VEVENT
BEGIN:VEVENT
UID:pretalx-installfest-2026-2025-P3EAFS@pretalx.installfest.cz
DTSTART;TZID=CET:20260328T123000
DTEND;TZID=CET:20260328T132500
DESCRIPTION:Přijďte si tradičně na Installfest nainstalovat openSUSE. P
 ředstavíme vám nový instalátor Agama\, který prošel řadou změn v
 četně vylepšeného správce oddílů\, a ukážeme\, co je v openSUSE n
 ového. Pro účastníky bez vlastního hardware budou k dispozici počít
 ače. Budeme se těšit!
DTSTAMP:20260421T105841Z
LOCATION:Workshop
SUMMARY:openSUSE Instalační workshop - Lubos Kocman
URL:https://pretalx.installfest.cz/installfest-2026-2025/talk/P3EAFS/
END:VEVENT
END:VCALENDAR
